BEGIN:VCALENDAR
VERSION:2.0
PRODID:-// - ECPv6.15.20//NONSGML v1.0//EN
CALSCALE:GREGORIAN
METHOD:PUBLISH
X-ORIGINAL-URL:https://www.ebcede.nl
X-WR-CALDESC:Evenementen voor 
REFRESH-INTERVAL;VALUE=DURATION:PT1H
X-Robots-Tag:noindex
X-PUBLISHED-TTL:PT1H
BEGIN:VTIMEZONE
TZID:Europe/Amsterdam
BEGIN:DAYLIGHT
TZOFFSETFROM:+0100
TZOFFSETTO:+0200
TZNAME:CEST
DTSTART:20240331T010000
END:DAYLIGHT
BEGIN:STANDARD
TZOFFSETFROM:+0200
TZOFFSETTO:+0100
TZNAME:CET
DTSTART:20241027T010000
END:STANDARD
BEGIN:DAYLIGHT
TZOFFSETFROM:+0100
TZOFFSETTO:+0200
TZNAME:CEST
DTSTART:20250330T010000
END:DAYLIGHT
BEGIN:STANDARD
TZOFFSETFROM:+0200
TZOFFSETTO:+0100
TZNAME:CET
DTSTART:20251026T010000
END:STANDARD
BEGIN:DAYLIGHT
TZOFFSETFROM:+0100
TZOFFSETTO:+0200
TZNAME:CEST
DTSTART:20260329T010000
END:DAYLIGHT
BEGIN:STANDARD
TZOFFSETFROM:+0200
TZOFFSETTO:+0100
TZNAME:CET
DTSTART:20261025T010000
END:STANDARD
END:VTIMEZONE
BEGIN:VEVENT
DTSTART;TZID=Europe/Amsterdam:20251006T120000
DTEND;TZID=Europe/Amsterdam:20251006T140000
DTSTAMP:20260422T204958
CREATED:20250120T160402Z
LAST-MODIFIED:20250912T094548Z
UID:280-1759752000-1759759200@www.ebcede.nl
SUMMARY:Ledenbijeenkomst oktober 2025
DESCRIPTION:Bijeenkomst bij de gemeente Ede \nThema: samenwerking gemeente en bedrijven Ede \nPresentatie wethouder Arnold Versteeg \nKick-off HR Loket door Maarten Laros
URL:https://www.ebcede.nl/event/ledenbijeenkomst-oktober-2025/
LOCATION:Raadhuis Ede\, Bergstraat 4\, Ede\, 6711 DD
CATEGORIES:Maandelijkse ledenbijeenkomsten
ATTACH;FMTTYPE=image/png:https://www.ebcede.nl/wp-content/uploads/2025/01/ebclogo.png
END:VEVENT
BEGIN:VEVENT
DTSTART;TZID=Europe/Amsterdam:20250901T120000
DTEND;TZID=Europe/Amsterdam:20250901T140000
DTSTAMP:20260422T204958
CREATED:20250120T160322Z
LAST-MODIFIED:20250715T081425Z
UID:278-1756728000-1756735200@www.ebcede.nl
SUMMARY:Ledenbijeenkomst september 2025
DESCRIPTION:Innovatie Ecosysteem\, hoe ziet dat er in de Regio Foodvalley uit?\nPresentatie door dr. ir. Henk Kievit\nTijdens deze bijeenkomst staat het thema ‘Innovatie ecosysteem Regio Foodvalley’ centraal. Hoe versterken we de samenwerking tussen onderwijs\, overheid\, ondernemers en onderzoekers? En welke rol speelt een goed georganiseerd regionaal netwerk in het realiseren van brede welvaart en duurzame groei? \nSpreker: dr.ir. Henk Kievit\nLector Dienstbaar Organiseren aan de CHE en hoogleraar aan Nyenrode Business Universiteit. Henk is nauw betrokken bij de ontwikkeling van Regio Foodvalley en vervult diverse rollen in regionale samenwerkingsverbanden\, zoals de Regiodeal Landbouwtransitie\, het Landbouwnetwerk en de Circulaire Raad van het Living Lab. Hij deelt zijn visie op hoe regionale netwerken kunnen bijdragen aan brede welvaart en duurzame groei. \n \nProgramma \n11.45 uur         Inloop en ontvangst met koffie/thee \n12.00 uur         Welkom en mededelingen door Marco Verhagen\, voorzitter  \n12.30 uur         Innovatie ecosysteem\, hoe ziet dat er in de Regio Foodvalley uit? Presentatie dr.ir. Henk Kievit  \n13.00 uur         Lunch en netwerken \n14.00 uur         Einde \nMocht dit bezoek ook interessant zijn voor iemand anders uit jouw organisatie dan is deze persoon natuurlijk van harte welkom. Bij het aanmelden kunnen een of meerdere namen toegevoegd worden. \nWe kijken er naar uit je te mogen ontmoeten op maandag 1 september a.s. bij BIT MeetMe\, Galileïlaan 17 in Ede. Aanmelden kan tot en met donderdag 28 augustus 2025.
URL:https://www.ebcede.nl/event/ledenbijeenkomst-september-2025/
LOCATION:BIT-MeetMe\, Galileïlaan 17\, Ede\, 6716 BP\, Netherlands
CATEGORIES:Maandelijkse ledenbijeenkomsten
ATTACH;FMTTYPE=image/png:https://www.ebcede.nl/wp-content/uploads/2025/01/ebclogo.png
END:VEVENT
BEGIN:VEVENT
DTSTART;TZID=Europe/Amsterdam:20250602T120000
DTEND;TZID=Europe/Amsterdam:20250602T140000
DTSTAMP:20260422T204958
CREATED:20250120T160040Z
LAST-MODIFIED:20250516T095757Z
UID:274-1748865600-1748872800@www.ebcede.nl
SUMMARY:Ledenbijeenkomst juni 2025
DESCRIPTION:  \nEen van de onderwerpen waar het EBC mee bezig is\, is de organisatie van parkmanagement voor het bedrijventerrein Frankeneng. Het bestuur van EBC heeft intussen enkele gesprekken gehad met Solaris Parkmanagement. Om de leden hierin mee te nemen\, hebben we Ben van de Wijgert\, parkmanager bij Solaris Parkmanagement\, bereid gevonden om een presentatie te komen geven. \n \n  \nSolaris Parkmanagement \nSolaris Parkmanagement ondersteunt ondernemers bij het toekomstbestendig maken van hun bedrijvenpark. Met een heldere en projectmatige aanpak werken wij samen aan veilige\, duurzame en vitale werkomgevingen. Wij bundelen expertise op vier kernthema’s: veiligheid\, duurzaamheid\, infrastructuur en samenwerking. Of het nu gaat om parkbeveiliging\, energiecollectieven\, mobiliteitsplannen of gezamenlijke initiatieven – wij zorgen voor regie\, ontzorging en resultaat.
URL:https://www.ebcede.nl/event/ledenbijeenkomst-juni-2025/
LOCATION:BIT-MeetMe\, Galileïlaan 17\, Ede\, 6716 BP\, Netherlands
CATEGORIES:Maandelijkse ledenbijeenkomsten
ATTACH;FMTTYPE=image/png:https://www.ebcede.nl/wp-content/uploads/2025/01/ebclogo.png
END:VEVENT
BEGIN:VEVENT
DTSTART;TZID=Europe/Amsterdam:20250512T120000
DTEND;TZID=Europe/Amsterdam:20250512T140000
DTSTAMP:20260422T204958
CREATED:20250120T155407Z
LAST-MODIFIED:20250408T090731Z
UID:268-1747051200-1747058400@www.ebcede.nl
SUMMARY:Ledenbijeenkomst mei 2025
DESCRIPTION:Welk vraagstuk zou jij opgelost willen hebben vanuit het DigiLab? \nHet DigiLab is een digitale werkplaats voor studenten Software Development van het Technova College. Wij zijn er voor mkb’ers in Regio Foodvalley. Onder begeleiding van bevlogen docenten bieden wij de volgende diensten aan: het bouwen of verbeteren van websites\, het ontwikkelen van maatwerksoftware en het inzetten van gamification om op een speelse manier problemen op te lossen. \nEen samenwerking met het DigiLab kan er zo uit zien: \n\nondernemer beschrijft projectidee\nstartgesprek met ondernemer\, student\, docent\neen wekelijks Teamsgesprek om voortgang te bespreken\noplevering én een waardevolle ervaring voor beide partijen\n\n  \n\nAleid Bisterbosch komt samen met een aantal studenten meer vertellen over het DigiLab! Noteer de datum in je agenda. De uitnodiging volgt via de mail!\n\n  \n  \nLet op: Deze bijeenkomst is een week later dan gebruikelijk omdat Bevrijdingsdag dit jaar op de eerste maandag van de maand valt. 
URL:https://www.ebcede.nl/event/ledenbijeenkomst-mei-2025/
LOCATION:BIT-MeetMe\, Galileïlaan 17\, Ede\, 6716 BP\, Netherlands
CATEGORIES:Maandelijkse ledenbijeenkomsten
ATTACH;FMTTYPE=image/png:https://www.ebcede.nl/wp-content/uploads/2025/01/ebclogo.png
END:VEVENT
BEGIN:VEVENT
DTSTART;TZID=Europe/Amsterdam:20250407T120000
DTEND;TZID=Europe/Amsterdam:20250407T140000
DTSTAMP:20260422T204958
CREATED:20250120T155244Z
LAST-MODIFIED:20250320T085149Z
UID:266-1744027200-1744034400@www.ebcede.nl
SUMMARY:Ledenbijeenkomst april 2025
DESCRIPTION:Deze bijeenkomst zal in verband met de benoeming van een aantal nieuwe bestuursleden gecombineerd worden met een algemene ledenvergadering (ALV). \nDe nieuwe bestuursleden zijn: \n\nHans Linker\, CHE\nArthur Geukes\, Rabobank\nWim Kerseboom\, Thexton Armstrong Kerseboom\n\n  \nDaarnaast hebben we een interessante presentatie op het programma staan: \n📌 Kiek ontwikkelt door! – door Gijs Jansen (Fydro) \nTijdens de ledenbijeenkomst neemt Gijs Jansen van Fydro ons mee in de doorontwikkeling van Kiek in de Techniek naar een breder initiatief: Kiek in de Praktiek. Dit nieuwe platform wil jongeren enthousiasmeren voor techniek en praktijkonderwijs en tegelijkertijd bedrijven en scholen in Ede beter met elkaar verbinden. \nOm dit te realiseren\, is betrokkenheid van technische en praktische bedrijven essentieel. We hebben ondernemers nodig die willen meedenken\, stageplekken kunnen aanbieden en actief willen bijdragen aan het versterken van de verbinding tussen onderwijs en bedrijfsleven. Het doel is meer instroom in technisch en praktisch onderwijs\, voldoende leerwerkplekken en sterke arbeidskansen. \nWil jij met jouw bedrijf bijdragen aan de toekomst van technisch talent in Ede? Kom naar de bijeenkomst en ontdek hoe we samen een duurzaam platform kunnen bouwen!
URL:https://www.ebcede.nl/event/ledenbijeenkomst-april-2025/
LOCATION:BIT-MeetMe\, Galileïlaan 17\, Ede\, 6716 BP\, Netherlands
CATEGORIES:Maandelijkse ledenbijeenkomsten
ATTACH;FMTTYPE=image/png:https://www.ebcede.nl/wp-content/uploads/2025/01/ebclogo.png
END:VEVENT
BEGIN:VEVENT
DTSTART;TZID=Europe/Amsterdam:20250303T120000
DTEND;TZID=Europe/Amsterdam:20250303T140000
DTSTAMP:20260422T204958
CREATED:20250120T155040Z
LAST-MODIFIED:20250213T210014Z
UID:263-1741003200-1741010400@www.ebcede.nl
SUMMARY:Ledenbijeenkomst maart 2025
DESCRIPTION:Dit keer zijn we te gast bij Coffee@work Ronny Aarts\, commercieel directeur\, is onze gastheer en sinds kort lid van het EBC.
URL:https://www.ebcede.nl/event/ledenbijeenkomst-maart-2025/
LOCATION:Coffee@work\, Voltastraat 1\, Ede\, 6716 AJ\, Netherlands
CATEGORIES:Maandelijkse ledenbijeenkomsten
ATTACH;FMTTYPE=image/png:https://www.ebcede.nl/wp-content/uploads/2025/01/ebclogo.png
END:VEVENT
BEGIN:VEVENT
DTSTART;TZID=Europe/Amsterdam:20250203T120000
DTEND;TZID=Europe/Amsterdam:20250203T140000
DTSTAMP:20260422T204958
CREATED:20250117T090150Z
LAST-MODIFIED:20250120T155512Z
UID:74-1738584000-1738591200@www.ebcede.nl
SUMMARY:Ledenbijeenkomst Februari 2025
DESCRIPTION:Maandelijkse EBC Ledenbijeenkomst (1e maandag van de maand). \nDeze keer hebben we Marije Eillebrecht\, directeur-bestuurder van Malkander te gast. \nAanmelden via de persoonlijke link in de uitnodiging.
URL:https://www.ebcede.nl/event/ledenbijeenkomst-februari-2025/
LOCATION:BIT-MeetMe\, Galileïlaan 17\, Ede\, 6716 BP\, Netherlands
CATEGORIES:Maandelijkse ledenbijeenkomsten
ATTACH;FMTTYPE=image/png:https://www.ebcede.nl/wp-content/uploads/2025/01/ebclogo.png
END:VEVENT
END:VCALENDAR